BEGIN:VCALENDAR
VERSION:2.0
PRODID:-//Friends of Chamber Music - ECPv6.15.20//NONSGML v1.0//EN
CALSCALE:GREGORIAN
METHOD:PUBLISH
X-WR-CALNAME:Friends of Chamber Music
X-ORIGINAL-URL:https://friendsofchambermusic.com
X-WR-CALDESC:Events for Friends of Chamber Music
REFRESH-INTERVAL;VALUE=DURATION:PT1H
X-Robots-Tag:noindex
X-PUBLISHED-TTL:PT1H
BEGIN:VTIMEZONE
TZID:America/Denver
BEGIN:DAYLIGHT
TZOFFSETFROM:-0700
TZOFFSETTO:-0600
TZNAME:MDT
DTSTART:20240310T090000
END:DAYLIGHT
BEGIN:STANDARD
TZOFFSETFROM:-0600
TZOFFSETTO:-0700
TZNAME:MST
DTSTART:20241103T080000
END:STANDARD
BEGIN:DAYLIGHT
TZOFFSETFROM:-0700
TZOFFSETTO:-0600
TZNAME:MDT
DTSTART:20250309T090000
END:DAYLIGHT
BEGIN:STANDARD
TZOFFSETFROM:-0600
TZOFFSETTO:-0700
TZNAME:MST
DTSTART:20251102T080000
END:STANDARD
BEGIN:DAYLIGHT
TZOFFSETFROM:-0700
TZOFFSETTO:-0600
TZNAME:MDT
DTSTART:20260308T090000
END:DAYLIGHT
BEGIN:STANDARD
TZOFFSETFROM:-0600
TZOFFSETTO:-0700
TZNAME:MST
DTSTART:20261101T080000
END:STANDARD
END:VTIMEZONE
BEGIN:VEVENT
DTSTART;TZID=America/Denver:20250205T180000
DTEND;TZID=America/Denver:20250205T200000
DTSTAMP:20260421T100125
CREATED:20241223T191106Z
LAST-MODIFIED:20250103T204506Z
UID:11182-1738778400-1738785600@friendsofchambermusic.com
SUMMARY:Dinner with the Danish String Quartet
DESCRIPTION:The Danish String Quartet takes to the Nocturne stage with two extraordinary performances benefitting Friends of Chamber Music.  This internationally-acclaimed group brings their signature blend of passion\, precision\, and charisma to this unique and intimate Denver venue. \nThe quartet will perform their trademark Nordic folk songs while you enjoy a seasonal four-course dinner crafted by Nocturne’s acclaimed culinary team.  Two options will be available for the entree\, and the culinary team is happy to accommodate most dietary restrictions. Cash bar\, optional wine pairings will be available for purchase. \nFor the second seating only (8:15 PM)\, a Dessert and Drinks option will be offered\, which includes the second performance and dessert\, served with a glass of sparkling wine or a mocktail. \nA limited number of show-only tickets are also available\, which include reserved seats at the bar or a cocktail table. Choose from an à la carte menu for drinks and dining. \nDinner and a Show:  BOOK NOW\nBar Seating:  BOOK NOW\nDessert and Drinks: BOOK NOW \nNote:  Sales tax and gratuity will be added at the time of purchase.   \n \nPresented in collaboration with:
URL:https://friendsofchambermusic.com/event/dinner-with-the-danish-string-quartet-2/2025-02-05/
LOCATION:Nocturne Jazz\, 1330 27th Street\, Denver\, 80205\, United States
CATEGORIES:Special Event
ATTACH;FMTTYPE=image/jpeg:https://friendsofchambermusic.com/wp-content/uploads/2024/12/Danish-Nocturne-for-web.jpg
ORGANIZER;CN="Friends of Chamber Music":MAILTO:info@friendsofchambermusic.com
END:VEVENT
BEGIN:VEVENT
DTSTART;TZID=America/Denver:20250206T193000
DTEND;TZID=America/Denver:20250206T213000
DTSTAMP:20260421T100125
CREATED:20240405T223433Z
LAST-MODIFIED:20250121T193933Z
UID:10806-1738870200-1738877400@friendsofchambermusic.com
SUMMARY:Danish String Quartet
DESCRIPTION:One of the world’s most renowned string quartets\, performing to sold-out concert halls around the world\, the Danish String Quartet returns for a third time to the Chamber Series. Musical America’s 2020 Ensemble of the Year\, the quartet will perform works by Mozart and Shostakovich as well as folk music from around the world. \nOn October 8\, the Danish String Quartet was awarded the $150\,000 Léonie Sonning Music Prize. The quartet is the first ensemble to ever win the accolade\, which is usually awarded to individual artists. They join other past award recipients including Igor Stravinsky\, Miles Davis\, Leonard Bernstein\, and Yo-Yo Ma.  Click here to read more. \nPRE-CONCERT TALK:  Danish members Violinist Rune Tonsgaard Sørensen and cellist Fredrik Schøyen Sjölin will be joined by Jameson Foster\, an ethnomusicologist at CU Boulder who is exploring how music is used to construct identity in the Nordic countries. He is also the founder of the Nordic Sound\, a public archive for Nordic music across genres and generations\, featuring interviews of prominent Scandinavian artists.\n6:30 PM – 7:00 PM\, Gates Concert Hall \nExplore the concert program here. The complete program notes are included\, perfect for reading in advance of the performance. \nWant to watch online? Click here for livestream tickets.  One ticket covers your entire household\, with the stream available to view for 72 hours. \n \nThanks to our partners at The Colorado Sun for their support of this performance.
URL:https://friendsofchambermusic.com/event/danish-string-quartet-3/
LOCATION:Gates Hall\, Newman Center\, 2344 E. Iliff Ave.\, Denver\, CO\, 80208\, United States
CATEGORIES:Chamber Series
ATTACH;FMTTYPE=image/jpeg:https://friendsofchambermusic.com/wp-content/uploads/2024/03/Danish-for-web-1500-x-656-px.jpg
ORGANIZER;CN="Friends of Chamber Music":MAILTO:info@friendsofchambermusic.com
END:VEVENT
END:VCALENDAR