BEGIN:VCALENDAR
VERSION:2.0
PRODID:-//Friends of Chamber Music - ECPv6.15.20//NONSGML v1.0//EN
CALSCALE:GREGORIAN
METHOD:PUBLISH
X-WR-CALNAME:Friends of Chamber Music
X-ORIGINAL-URL:https://friendsofchambermusic.com
X-WR-CALDESC:Events for Friends of Chamber Music
REFRESH-INTERVAL;VALUE=DURATION:PT1H
X-Robots-Tag:noindex
X-PUBLISHED-TTL:PT1H
BEGIN:VTIMEZONE
TZID:America/Denver
BEGIN:DAYLIGHT
TZOFFSETFROM:-0700
TZOFFSETTO:-0600
TZNAME:MDT
DTSTART:20240310T090000
END:DAYLIGHT
BEGIN:STANDARD
TZOFFSETFROM:-0600
TZOFFSETTO:-0700
TZNAME:MST
DTSTART:20241103T080000
END:STANDARD
BEGIN:DAYLIGHT
TZOFFSETFROM:-0700
TZOFFSETTO:-0600
TZNAME:MDT
DTSTART:20250309T090000
END:DAYLIGHT
BEGIN:STANDARD
TZOFFSETFROM:-0600
TZOFFSETTO:-0700
TZNAME:MST
DTSTART:20251102T080000
END:STANDARD
BEGIN:DAYLIGHT
TZOFFSETFROM:-0700
TZOFFSETTO:-0600
TZNAME:MDT
DTSTART:20260308T090000
END:DAYLIGHT
BEGIN:STANDARD
TZOFFSETFROM:-0600
TZOFFSETTO:-0700
TZNAME:MST
DTSTART:20261101T080000
END:STANDARD
END:VTIMEZONE
BEGIN:VEVENT
DTSTART;TZID=America/Denver:20250409T193000
DTEND;TZID=America/Denver:20250409T213000
DTSTAMP:20260420T114707
CREATED:20240405T225055Z
LAST-MODIFIED:20250403T233950Z
UID:10827-1744227000-1744234200@friendsofchambermusic.com
SUMMARY:Quartetto di Cremona and Basil Vendryes\, viola
DESCRIPTION:This talented ensemble from Italy makes their FCM debut with local favorite\, Colorado Symphony violist Basil Vendryes.  Since its formation in 2000\, the quartet has been invited to perform at major music festivals and halls around the world. In addition to quartets by Debussy and Golijov\, Vendryes will join the quartet for one of Brahms’s late works\, his String Quintet No. 2. \nWant to watch online? Click here for livestream tickets.  One ticket covers your entire household\, with the stream available to view for 72 hours. \nPRE-CONCERT TALK:  Violist Basil Vendryes will be joined by Simone Gramaglia\, violist with Quartetto di Cremona\, to provide an overview of the evening’s program.\n6:30 PM – 7:00 PM\, Gates Concert Hall \n  \nClick here for the complete concert program\, perfect for reviewing in advance of the concert. \n \nPresenting Sponsor:
URL:https://friendsofchambermusic.com/event/quartetto-di-cremona-and-basil-vendryes-viola/
LOCATION:Gates Hall\, Newman Center\, 2344 E. Iliff Ave.\, Denver\, CO\, 80208\, United States
CATEGORIES:Chamber Series
ATTACH;FMTTYPE=image/jpeg:https://friendsofchambermusic.com/wp-content/uploads/2024/03/Quartetto-di-Cremona-1500-x-656-px.jpeg
ORGANIZER;CN="Friends of Chamber Music":MAILTO:info@friendsofchambermusic.com
END:VEVENT
END:VCALENDAR